BEGIN:VCALENDAR
PRODID:-//eluceo/ical//2.0/EN
VERSION:2.0
CALSCALE:GREGORIAN
BEGIN:VEVENT
UID:83f838c2ec11d1a79848af6ebfca9b43
DTSTAMP:20260423T085932Z
SUMMARY:Concerts Tchikidan
DESCRIPTION:Collégiale de notre Dame des Marais à Villefranche-sur-Saône
 \, à 17h00 et 21h00\n\nEglise de la Rédemption à Lyon 3ème à 15h00
URL:https://villefranche-en-beaujolais.rotary1710.org/de/agenda/show/433
DTSTART;TZID=Europe/Zurich:20130406T170000
DTEND;TZID=Europe/Zurich:20130407T170000
LOCATION:Villefranche-sur-Saône /Lyon 3ème
CATEGORIES:Rotary
END:VEVENT
BEGIN:VTIMEZONE
TZID:Europe/Zurich
BEGIN:DAYLIGHT
DTSTART:20130406T170000
TZNAME:CEST
TZOFFSETTO:+0200
TZOFFSETFROM:+0200
END:DAYLIGHT
END:VTIMEZONE
END:VCALENDAR
